BEGIN:VCALENDAR
VERSION:2.0
BEGIN:VEVENT
UID:ics69ea9993122af
DTSTAMP:20260423T221339Z
LOCATION:Online und Hafen Eckernförde
DESCRIPTION:
URL:https://www.klar-zur-wende.org/material/aktuelles/juleica-schulung-an-bord/
SUMMARY:Juleica-Schulung an Bord - Wir sind ausgebucht! Weitere Anmeldungen werden auf Warteliste gesetzt.
DTSTART:20241018T160000Z
DTEND:20241024T100000Z
END:VEVENT
END:VCALENDAR
