BEGIN:VCALENDAR
VERSION:2.0
BEGIN:VEVENT
UID:ics69e77eae52c93
DTSTAMP:20260421T134206Z
LOCATION:Flensburg\, Segelschiff Providentia
DESCRIPTION:
URL:https://www.klar-zur-wende.org/klimasail/aktuelles/klimateamerinnen-friends-toern/
SUMMARY:KlimaTeamer*innen & Friends-Törn
DTSTART:20260922T130000Z
DTEND:20260929T140000Z
END:VEVENT
END:VCALENDAR
