BEGIN:VCALENDAR
VERSION:2.0
BEGIN:VEVENT
UID:ics69e645ec64f98
DTSTAMP:20260420T152740Z
LOCATION:Flensburg\, Segelschiff Providentia
DESCRIPTION:
URL:https://www.klar-zur-wende.org/klimasail/aktuelles/klimasail-toern/
SUMMARY:KlimaSail Törn Alsterbund
DTSTART:20260716T080000Z
DTEND:20260724T140000Z
END:VEVENT
END:VCALENDAR
