BEGIN:VCALENDAR
VERSION:2.0
BEGIN:VEVENT
UID:ics69e9dd02d4060
DTSTAMP:20260423T084906Z
LOCATION:Kiel - Flensburg
DESCRIPTION:
URL:https://www.klar-zur-wende.org/klimasail/aktuelles/klimasail-toern-kirchengemeinde-bargfeld/
SUMMARY:KlimaSail-Törn (Kirchengemeinde Bargfeld)
DTSTART:20240803T100000Z
DTEND:20240813T100000Z
END:VEVENT
END:VCALENDAR
