BEGIN:VCALENDAR
VERSION:2.0
BEGIN:VEVENT
UID:ics69e6272206c96
DTSTAMP:20260420T131618Z
LOCATION:Kiel\, Segelschiff Amazone
DESCRIPTION:
URL:https://www.klar-zur-wende.org/klimasail/aktuelles/generationen-toern-zukunftsbilder-klimasail/
SUMMARY:Generationen-Törn „Zukunftsbilder – KlimaSail“
DTSTART:20260706T070000Z
DTEND:20260711T150000Z
END:VEVENT
END:VCALENDAR
