BEGIN:VCALENDAR
VERSION:2.0
BEGIN:VEVENT
UID:ics69ea99e177faf
DTSTAMP:20260423T221457Z
LOCATION:Freizeitheim Heidkate
DESCRIPTION:
URL:https://www.klar-zur-wende.org/klimasail/aktuelles/fit-fuer-die-sommerfreizeit/
SUMMARY:Fit für die Sommerfreizeit - Trainingswochenende für Teamer*innen 
DTSTART:20240621T160000Z
DTEND:20240623T100000Z
END:VEVENT
END:VCALENDAR
